BEGIN:VCALENDAR
VERSION:2.0
PRODID:-//D&#039;Frënn vun der 9. Konscht - ECPv5.4.0.1//NONSGML v1.0//EN
CALSCALE:GREGORIAN
METHOD:PUBLISH
X-WR-CALNAME:D&#039;Frënn vun der 9. Konscht
X-ORIGINAL-URL:https://9konscht.lu
X-WR-CALDESC:Events for D&#039;Frënn vun der 9. Konscht
BEGIN:VTIMEZONE
TZID:UTC
BEGIN:STANDARD
TZOFFSETFROM:+0000
TZOFFSETTO:+0000
TZNAME:UTC
DTSTART:20210101T000000
END:STANDARD
END:VTIMEZONE
BEGIN:VEVENT
DTSTART;TZID=UTC:20210331T193000
DTEND;TZID=UTC:20210331T210000
DTSTAMP:20211009T022135
CREATED:20210310T102853Z
LAST-MODIFIED:20210310T102853Z
UID:279-1617219000-1617224400@9konscht.lu
SUMMARY:FORTIFIC(A)TIONS Comic Presentation
DESCRIPTION:31.03.2021\n19h30\nopderschmelz – Grand Auditoire \nEntrée libre / Freier Eintritt / Free Entry
URL:https://9konscht.lu/event/fortifications-comic-presentation/
LOCATION:opderschmelz\, 1a rue du Centenaire\, Dudelange\, 3475\, Luxembourg
CATEGORIES:Signing Sessions
END:VEVENT
BEGIN:VEVENT
DTSTART;TZID=UTC:20210417T170000
DTEND;TZID=UTC:20210417T174000
DTSTAMP:20211009T022135
CREATED:20210409T175705Z
LAST-MODIFIED:20210409T175705Z
UID:481-1618678800-1618681200@9konscht.lu
SUMMARY:Luxcon Panel
DESCRIPTION:A 40min discussion with other members from D’Frënn vun der 9. Konscht about our association to promote comics in Luxembourg\, and about our first collective work\, Fortific(a)tions. \nJoin the Luxcon Discord channel over the whole week-end to hang out with artists\, cosplayers\, crafters and a sweet geeky community!
URL:https://9konscht.lu/event/luxcon-panel/
CATEGORIES:Talk Shows
END:VEVENT
END:VCALENDAR